BEGIN:VCALENDAR
VERSION:2.0
PRODID:-//Sugar Hollow - ECPv6.15.20//NONSGML v1.0//EN
CALSCALE:GREGORIAN
METHOD:PUBLISH
X-ORIGINAL-URL:https://sugarhollowmarina.com
X-WR-CALDESC:Events for Sugar Hollow
REFRESH-INTERVAL;VALUE=DURATION:PT1H
X-Robots-Tag:noindex
X-PUBLISHED-TTL:PT1H
BEGIN:VTIMEZONE
TZID:America/New_York
BEGIN:DAYLIGHT
TZOFFSETFROM:-0500
TZOFFSETTO:-0400
TZNAME:EDT
DTSTART:20250309T070000
END:DAYLIGHT
BEGIN:STANDARD
TZOFFSETFROM:-0400
TZOFFSETTO:-0500
TZNAME:EST
DTSTART:20251102T060000
END:STANDARD
BEGIN:DAYLIGHT
TZOFFSETFROM:-0500
TZOFFSETTO:-0400
TZNAME:EDT
DTSTART:20260308T070000
END:DAYLIGHT
BEGIN:STANDARD
TZOFFSETFROM:-0400
TZOFFSETTO:-0500
TZNAME:EST
DTSTART:20261101T060000
END:STANDARD
BEGIN:DAYLIGHT
TZOFFSETFROM:-0500
TZOFFSETTO:-0400
TZNAME:EDT
DTSTART:20270314T070000
END:DAYLIGHT
BEGIN:STANDARD
TZOFFSETFROM:-0400
TZOFFSETTO:-0500
TZNAME:EST
DTSTART:20271107T060000
END:STANDARD
END:VTIMEZONE
BEGIN:VEVENT
DTSTART;TZID=America/New_York:20260702T190000
DTEND;TZID=America/New_York:20260702T220000
DTSTAMP:20260423T113058
CREATED:20260412T174356Z
LAST-MODIFIED:20260412T174356Z
UID:10000623-1783018800-1783029600@sugarhollowmarina.com
SUMMARY:CJ Ausburn
DESCRIPTION:CJ Ausburn live at Sugar Hollow Marina featuring great music\, lakeside views\, food\, and a fun summer atmosphere on the water.
URL:https://sugarhollowmarina.com/event/cj-ausburn-2/
LOCATION:Sugar Hollow Resort & Marina\, 610 Marina Lane\, LaFollette\, TN\, 37766\, United States
CATEGORIES:Live Entertainment
ATTACH;FMTTYPE=image/jpeg:https://sugarhollowmarina.com/wp-content/uploads/2026/04/CJ-Ausburn.jpg
END:VEVENT
BEGIN:VEVENT
DTSTART;TZID=America/New_York:20260703T190000
DTEND;TZID=America/New_York:20260703T230000
DTSTAMP:20260423T113058
CREATED:20260412T174525Z
LAST-MODIFIED:20260412T174525Z
UID:10000624-1783105200-1783119600@sugarhollowmarina.com
SUMMARY:Hunter Chastain & Band
DESCRIPTION:Nashville’s Hunter Chastain & Band live at Sugar Hollow Marina with high-energy music\, lakeside views\, food\, and summer vibes.
URL:https://sugarhollowmarina.com/event/hunter-chastain-band-2/
LOCATION:Sugar Hollow Resort & Marina\, 610 Marina Lane\, LaFollette\, TN\, 37766\, United States
CATEGORIES:Live Entertainment
ATTACH;FMTTYPE=image/jpeg:https://sugarhollowmarina.com/wp-content/uploads/2026/04/Hunter-Chastain.jpg
END:VEVENT
BEGIN:VEVENT
DTSTART;TZID=America/New_York:20260705T170000
DTEND;TZID=America/New_York:20260705T200000
DTSTAMP:20260423T113058
CREATED:20260412T175440Z
LAST-MODIFIED:20260412T175440Z
UID:10000627-1783270800-1783281600@sugarhollowmarina.com
SUMMARY:Aaron Walker
DESCRIPTION:Aaron Walker live at Sugar Hollow Marina with great music\, lakeside views\, food\, and a fun summer atmosphere.
URL:https://sugarhollowmarina.com/event/aaron-walker/
LOCATION:Sugar Hollow Resort & Marina\, 610 Marina Lane\, LaFollette\, TN\, 37766\, United States
CATEGORIES:Live Entertainment
ATTACH;FMTTYPE=image/jpeg:https://sugarhollowmarina.com/wp-content/uploads/2026/04/Aaron-Walker.jpg
END:VEVENT
BEGIN:VEVENT
DTSTART;TZID=America/New_York:20260709T180000
DTEND;TZID=America/New_York:20260709T220000
DTSTAMP:20260423T113058
CREATED:20260412T175738Z
LAST-MODIFIED:20260412T175738Z
UID:10000628-1783620000-1783634400@sugarhollowmarina.com
SUMMARY:Hayden Bright
DESCRIPTION:Enjoy live music with Hayden Bright at Sugar Hollow Marina. Lakeside vibes\, food\, drinks & great entertainment.
URL:https://sugarhollowmarina.com/event/hayden-bright/
LOCATION:Sugar Hollow Resort & Marina\, 610 Marina Lane\, LaFollette\, TN\, 37766\, United States
CATEGORIES:Live Entertainment
ATTACH;FMTTYPE=image/jpeg:https://sugarhollowmarina.com/wp-content/uploads/2026/04/Hayden-Briht.jpg
END:VEVENT
BEGIN:VEVENT
DTSTART;TZID=America/New_York:20260710T190000
DTEND;TZID=America/New_York:20260710T230000
DTSTAMP:20260423T113058
CREATED:20260412T175935Z
LAST-MODIFIED:20260412T175935Z
UID:10000629-1783710000-1783724400@sugarhollowmarina.com
SUMMARY:Van Waylon
DESCRIPTION:Enjoy live music with Van Waylon at Sugar Hollow Marina. Great lakeside entertainment\, food & drinks.
URL:https://sugarhollowmarina.com/event/van-waylon-2/
LOCATION:Sugar Hollow Resort & Marina\, 610 Marina Lane\, LaFollette\, TN\, 37766\, United States
CATEGORIES:Live Entertainment
ATTACH;FMTTYPE=image/jpeg:https://sugarhollowmarina.com/wp-content/uploads/2026/04/Van-Waylon.jpg
END:VEVENT
BEGIN:VEVENT
DTSTART;TZID=America/New_York:20260711T190000
DTEND;TZID=America/New_York:20260711T230000
DTSTAMP:20260423T113058
CREATED:20260412T180229Z
LAST-MODIFIED:20260412T180229Z
UID:10000631-1783796400-1783810800@sugarhollowmarina.com
SUMMARY:Kincaid Band
DESCRIPTION:Live music from Kincaid Band at Sugar Hollow Marina. Food\, drinks\, lakeside entertainment.
URL:https://sugarhollowmarina.com/event/kincaid-band-2/
LOCATION:Sugar Hollow Resort & Marina\, 610 Marina Lane\, LaFollette\, TN\, 37766\, United States
CATEGORIES:Live Entertainment
ATTACH;FMTTYPE=image/jpeg:https://sugarhollowmarina.com/wp-content/uploads/2026/04/Kincaid-Band.jpg
END:VEVENT
BEGIN:VEVENT
DTSTART;TZID=America/New_York:20260716T180000
DTEND;TZID=America/New_York:20260716T220000
DTSTAMP:20260423T113058
CREATED:20260412T180417Z
LAST-MODIFIED:20260412T180417Z
UID:10000632-1784224800-1784239200@sugarhollowmarina.com
SUMMARY:Jeremy Johnson
DESCRIPTION:Enjoy live music with Jeremy Johnson at Sugar Hollow Marina. Lakeside fun\, food\, drinks & great vibes.
URL:https://sugarhollowmarina.com/event/jeremy-johnson/
LOCATION:Sugar Hollow Resort & Marina\, 610 Marina Lane\, LaFollette\, TN\, 37766\, United States
CATEGORIES:Live Entertainment
ATTACH;FMTTYPE=image/jpeg:https://sugarhollowmarina.com/wp-content/uploads/2026/04/Jeremy-Johnson.jpg
END:VEVENT
BEGIN:VEVENT
DTSTART;TZID=America/New_York:20260717T190000
DTEND;TZID=America/New_York:20260717T230000
DTSTAMP:20260423T113058
CREATED:20260412T182136Z
LAST-MODIFIED:20260412T182136Z
UID:10000633-1784314800-1784329200@sugarhollowmarina.com
SUMMARY:Ryan Adams & The SOBs
DESCRIPTION:Enjoy live music with Ryan Adams & The SOBs at Sugar Hollow Marina. Lakeside music\, food & drinks.
URL:https://sugarhollowmarina.com/event/ryan-adams-the-sobs/
LOCATION:Sugar Hollow Resort & Marina\, 610 Marina Lane\, LaFollette\, TN\, 37766\, United States
CATEGORIES:Live Entertainment
ATTACH;FMTTYPE=image/jpeg:https://sugarhollowmarina.com/wp-content/uploads/2026/04/RA-The-SOBS.jpg
END:VEVENT
BEGIN:VEVENT
DTSTART;TZID=America/New_York:20260718T190000
DTEND;TZID=America/New_York:20260718T230000
DTSTAMP:20260423T113058
CREATED:20260412T182749Z
LAST-MODIFIED:20260412T182749Z
UID:10000634-1784401200-1784415600@sugarhollowmarina.com
SUMMARY:Paint Creek
DESCRIPTION:Enjoy live music from Paint Creek at Sugar Hollow Marina. Lakeside views\, food\, drinks\, and great summer entertainment.
URL:https://sugarhollowmarina.com/event/paint-creek/
LOCATION:Sugar Hollow Resort & Marina\, 610 Marina Lane\, LaFollette\, TN\, 37766\, United States
CATEGORIES:Live Entertainment
ATTACH;FMTTYPE=image/webp:https://sugarhollowmarina.com/wp-content/uploads/2026/04/Paint-Creek.webp
END:VEVENT
BEGIN:VEVENT
DTSTART;TZID=America/New_York:20260723T190000
DTEND;TZID=America/New_York:20260723T220000
DTSTAMP:20260423T113058
CREATED:20260412T183007Z
LAST-MODIFIED:20260412T183007Z
UID:10000635-1784833200-1784844000@sugarhollowmarina.com
SUMMARY:Dustin Ford
DESCRIPTION:Enjoy live music with Dustin Ford at Sugar Hollow Marina for Taco Thursday. Lakeside tacos\, drinks & entertainment.
URL:https://sugarhollowmarina.com/event/dustin-ford-3/
LOCATION:Sugar Hollow Resort & Marina\, 610 Marina Lane\, LaFollette\, TN\, 37766\, United States
CATEGORIES:Live Entertainment
ATTACH;FMTTYPE=image/jpeg:https://sugarhollowmarina.com/wp-content/uploads/2026/04/Dustin-Ford.jpg
END:VEVENT
BEGIN:VEVENT
DTSTART;TZID=America/New_York:20260724T190000
DTEND;TZID=America/New_York:20260724T230000
DTSTAMP:20260423T113058
CREATED:20260412T183936Z
LAST-MODIFIED:20260412T183936Z
UID:10000636-1784919600-1784934000@sugarhollowmarina.com
SUMMARY:Thor and The Reigns
DESCRIPTION:Turn up the lakeside energy with Thor and The Reigns at Sugar Hollow Marina. Live music\, sunset views\, food\, and drinks by the water.
URL:https://sugarhollowmarina.com/event/thor-and-the-reigns-2/
LOCATION:TN
CATEGORIES:Live Entertainment
ATTACH;FMTTYPE=image/jpeg:https://sugarhollowmarina.com/wp-content/uploads/2026/04/Thor-and-The-Reigns.jpg
END:VEVENT
BEGIN:VEVENT
DTSTART;TZID=America/New_York:20260725T190000
DTEND;TZID=America/New_York:20260725T230000
DTSTAMP:20260423T113058
CREATED:20260412T184106Z
LAST-MODIFIED:20260412T184106Z
UID:10000637-1785006000-1785020400@sugarhollowmarina.com
SUMMARY:Southern Drive
DESCRIPTION:Kick back with Southern Drive at Sugar Hollow Marina. Live music\, lake views\, food\, drinks\, and a perfect weekend vibe.
URL:https://sugarhollowmarina.com/event/southern-drive-2/
LOCATION:Sugar Hollow Resort & Marina\, 610 Marina Lane\, LaFollette\, TN\, 37766\, United States
CATEGORIES:Live Entertainment
ATTACH;FMTTYPE=image/jpeg:https://sugarhollowmarina.com/wp-content/uploads/2026/04/Southern-Drive.jpg
END:VEVENT
BEGIN:VEVENT
DTSTART;TZID=America/New_York:20260730T180000
DTEND;TZID=America/New_York:20260730T220000
DTSTAMP:20260423T113058
CREATED:20260412T184226Z
LAST-MODIFIED:20260412T184226Z
UID:10000638-1785434400-1785448800@sugarhollowmarina.com
SUMMARY:Tommy Brooks
DESCRIPTION:Catch live music with Tommy Brooks at Sugar Hollow Marina. Lakeside tunes\, food\, drinks\, and relaxed waterfront vibes.
URL:https://sugarhollowmarina.com/event/tommy-brooks-3/
LOCATION:Sugar Hollow Resort & Marina\, 610 Marina Lane\, LaFollette\, TN\, 37766\, United States
CATEGORIES:Live Entertainment
ATTACH;FMTTYPE=image/jpeg:https://sugarhollowmarina.com/wp-content/uploads/2026/04/Tommy-Brooks.jpg
END:VEVENT
BEGIN:VEVENT
DTSTART;TZID=America/New_York:20260731T190000
DTEND;TZID=America/New_York:20260731T230000
DTSTAMP:20260423T113058
CREATED:20260412T184328Z
LAST-MODIFIED:20260412T184328Z
UID:10000639-1785524400-1785538800@sugarhollowmarina.com
SUMMARY:Gramphix
DESCRIPTION:Enjoy live music from Gramphix at Sugar Hollow Marina. Lakeside energy\, great food\, drinks\, and summer entertainment on the water.
URL:https://sugarhollowmarina.com/event/gramphix-3/
LOCATION:Sugar Hollow Resort & Marina\, 610 Marina Lane\, LaFollette\, TN\, 37766\, United States
CATEGORIES:Live Entertainment
ATTACH;FMTTYPE=image/jpeg:https://sugarhollowmarina.com/wp-content/uploads/2026/04/Gramphix.jpg
END:VEVENT
END:VCALENDAR