BEGIN:VCALENDAR
VERSION:2.0
PRODID:-//Sugar Hollow - ECPv6.15.20//NONSGML v1.0//EN
CALSCALE:GREGORIAN
METHOD:PUBLISH
X-WR-CALNAME:Sugar Hollow
X-ORIGINAL-URL:https://sugarhollowmarina.com
X-WR-CALDESC:Events for Sugar Hollow
REFRESH-INTERVAL;VALUE=DURATION:PT1H
X-Robots-Tag:noindex
X-PUBLISHED-TTL:PT1H
BEGIN:VTIMEZONE
TZID:America/New_York
BEGIN:DAYLIGHT
TZOFFSETFROM:-0500
TZOFFSETTO:-0400
TZNAME:EDT
DTSTART:20250309T070000
END:DAYLIGHT
BEGIN:STANDARD
TZOFFSETFROM:-0400
TZOFFSETTO:-0500
TZNAME:EST
DTSTART:20251102T060000
END:STANDARD
BEGIN:DAYLIGHT
TZOFFSETFROM:-0500
TZOFFSETTO:-0400
TZNAME:EDT
DTSTART:20260308T070000
END:DAYLIGHT
BEGIN:STANDARD
TZOFFSETFROM:-0400
TZOFFSETTO:-0500
TZNAME:EST
DTSTART:20261101T060000
END:STANDARD
BEGIN:DAYLIGHT
TZOFFSETFROM:-0500
TZOFFSETTO:-0400
TZNAME:EDT
DTSTART:20270314T070000
END:DAYLIGHT
BEGIN:STANDARD
TZOFFSETFROM:-0400
TZOFFSETTO:-0500
TZNAME:EST
DTSTART:20271107T060000
END:STANDARD
END:VTIMEZONE
BEGIN:VEVENT
DTSTART;TZID=America/New_York:20260612T190000
DTEND;TZID=America/New_York:20260612T230000
DTSTAMP:20260425T063057
CREATED:20260412T162711Z
LAST-MODIFIED:20260412T162711Z
UID:10000614-1781290800-1781305200@sugarhollowmarina.com
SUMMARY:Hunter Chastain & Band
DESCRIPTION:Don’t miss Hunter Chastain & Band\, a popular Nashville live music act\, performing at Sugar Hollow Marina on Norris Lake. Enjoy an unforgettable night of country and Americana music on the water.
URL:https://sugarhollowmarina.com/event/hunter-chastain-band/
LOCATION:Sugar Hollow Resort & Marina\, 610 Marina Lane\, LaFollette\, TN\, 37766\, United States
CATEGORIES:Live Entertainment
ATTACH;FMTTYPE=image/jpeg:https://sugarhollowmarina.com/wp-content/uploads/2026/04/Hunter-Chastain.jpg
END:VEVENT
END:VCALENDAR