BEGIN:VCALENDAR
VERSION:2.0
PRODID:-//Sugar Hollow - ECPv6.15.20//NONSGML v1.0//EN
CALSCALE:GREGORIAN
METHOD:PUBLISH
X-WR-CALNAME:Sugar Hollow
X-ORIGINAL-URL:https://sugarhollowmarina.com
X-WR-CALDESC:Events for Sugar Hollow
REFRESH-INTERVAL;VALUE=DURATION:PT1H
X-Robots-Tag:noindex
X-PUBLISHED-TTL:PT1H
BEGIN:VTIMEZONE
TZID:America/New_York
BEGIN:DAYLIGHT
TZOFFSETFROM:-0500
TZOFFSETTO:-0400
TZNAME:EDT
DTSTART:20250309T070000
END:DAYLIGHT
BEGIN:STANDARD
TZOFFSETFROM:-0400
TZOFFSETTO:-0500
TZNAME:EST
DTSTART:20251102T060000
END:STANDARD
BEGIN:DAYLIGHT
TZOFFSETFROM:-0500
TZOFFSETTO:-0400
TZNAME:EDT
DTSTART:20260308T070000
END:DAYLIGHT
BEGIN:STANDARD
TZOFFSETFROM:-0400
TZOFFSETTO:-0500
TZNAME:EST
DTSTART:20261101T060000
END:STANDARD
BEGIN:DAYLIGHT
TZOFFSETFROM:-0500
TZOFFSETTO:-0400
TZNAME:EDT
DTSTART:20270314T070000
END:DAYLIGHT
BEGIN:STANDARD
TZOFFSETFROM:-0400
TZOFFSETTO:-0500
TZNAME:EST
DTSTART:20271107T060000
END:STANDARD
END:VTIMEZONE
BEGIN:VEVENT
DTSTART;TZID=America/New_York:20260822T190000
DTEND;TZID=America/New_York:20260822T230000
DTSTAMP:20260423T163123
CREATED:20260412T191612Z
LAST-MODIFIED:20260412T191612Z
UID:10000650-1787425200-1787439600@sugarhollowmarina.com
SUMMARY:HIGHWAY 33
DESCRIPTION:Southern rock energy from Highway 33 at Sugar Hollow Marina. Live music on the lake with cold drinks\, food\, and summer vibes.
URL:https://sugarhollowmarina.com/event/highway-33-2/
LOCATION:Sugar Hollow Resort & Marina\, 610 Marina Lane\, LaFollette\, TN\, 37766\, United States
CATEGORIES:Live Entertainment
ATTACH;FMTTYPE=image/jpeg:https://sugarhollowmarina.com/wp-content/uploads/2026/04/HWY33.jpg
END:VEVENT
END:VCALENDAR