BEGIN:VCALENDAR
VERSION:2.0
PRODID:-//Sugar Hollow - ECPv6.15.20//NONSGML v1.0//EN
CALSCALE:GREGORIAN
METHOD:PUBLISH
X-ORIGINAL-URL:https://sugarhollowmarina.com
X-WR-CALDESC:Events for Sugar Hollow
REFRESH-INTERVAL;VALUE=DURATION:PT1H
X-Robots-Tag:noindex
X-PUBLISHED-TTL:PT1H
BEGIN:VTIMEZONE
TZID:America/New_York
BEGIN:DAYLIGHT
TZOFFSETFROM:-0500
TZOFFSETTO:-0400
TZNAME:EDT
DTSTART:20250309T070000
END:DAYLIGHT
BEGIN:STANDARD
TZOFFSETFROM:-0400
TZOFFSETTO:-0500
TZNAME:EST
DTSTART:20251102T060000
END:STANDARD
BEGIN:DAYLIGHT
TZOFFSETFROM:-0500
TZOFFSETTO:-0400
TZNAME:EDT
DTSTART:20260308T070000
END:DAYLIGHT
BEGIN:STANDARD
TZOFFSETFROM:-0400
TZOFFSETTO:-0500
TZNAME:EST
DTSTART:20261101T060000
END:STANDARD
BEGIN:DAYLIGHT
TZOFFSETFROM:-0500
TZOFFSETTO:-0400
TZNAME:EDT
DTSTART:20270314T070000
END:DAYLIGHT
BEGIN:STANDARD
TZOFFSETFROM:-0400
TZOFFSETTO:-0500
TZNAME:EST
DTSTART:20271107T060000
END:STANDARD
END:VTIMEZONE
BEGIN:VEVENT
DTSTART;TZID=America/New_York:20260612T190000
DTEND;TZID=America/New_York:20260612T230000
DTSTAMP:20260419T111110
CREATED:20260412T162338Z
LAST-MODIFIED:20260412T162338Z
UID:10000613-1781290800-1781305200@sugarhollowmarina.com
SUMMARY:Western Night
DESCRIPTION:Join Western Night at Sugar Hollow Marina featuring live music by Nashville’s one and only Hunter Chastain and his band. Western vibes\, best dressed cowboy/cowgirl contest\, and a fun lakeside atmosphere on Norris Lake.
URL:https://sugarhollowmarina.com/event/western-night/
LOCATION:Sugar Hollow Resort & Marina\, 610 Marina Lane\, LaFollette\, TN\, 37766\, United States
CATEGORIES:Themed Events
ATTACH;FMTTYPE=image/png:https://sugarhollowmarina.com/wp-content/uploads/2026/04/Western-Night.png
END:VEVENT
BEGIN:VEVENT
DTSTART;TZID=America/New_York:20260627T190000
DTEND;TZID=America/New_York:20260627T230000
DTSTAMP:20260419T111110
CREATED:20260412T173950Z
LAST-MODIFIED:20260412T173950Z
UID:10000621-1782586800-1782601200@sugarhollowmarina.com
SUMMARY:Margaritaville At The Marina
DESCRIPTION:Experience Margaritaville at the Marina at Sugar Hollow Marina—a tropical-inspired lakeside event featuring live music\, great food\, and laid-back island vibes on the water. Join us for an unforgettable day at the marina!
URL:https://sugarhollowmarina.com/event/margaritaville-at-the-marina-2/
LOCATION:Sugar Hollow Resort & Marina\, 610 Marina Lane\, LaFollette\, TN\, 37766\, United States
CATEGORIES:Live Entertainment,Themed Events
ATTACH;FMTTYPE=image/png:https://sugarhollowmarina.com/wp-content/uploads/2026/04/ChatGPT-Image-Apr-12-2026-01_38_00-PM.png
END:VEVENT
END:VCALENDAR