BEGIN:VCALENDAR
VERSION:2.0
PRODID:-//Sugar Hollow - ECPv6.15.20//NONSGML v1.0//EN
CALSCALE:GREGORIAN
METHOD:PUBLISH
X-ORIGINAL-URL:https://sugarhollowmarina.com
X-WR-CALDESC:Events for Sugar Hollow
REFRESH-INTERVAL;VALUE=DURATION:PT1H
X-Robots-Tag:noindex
X-PUBLISHED-TTL:PT1H
BEGIN:VTIMEZONE
TZID:America/New_York
BEGIN:DAYLIGHT
TZOFFSETFROM:-0500
TZOFFSETTO:-0400
TZNAME:EDT
DTSTART:20250309T070000
END:DAYLIGHT
BEGIN:STANDARD
TZOFFSETFROM:-0400
TZOFFSETTO:-0500
TZNAME:EST
DTSTART:20251102T060000
END:STANDARD
BEGIN:DAYLIGHT
TZOFFSETFROM:-0500
TZOFFSETTO:-0400
TZNAME:EDT
DTSTART:20260308T070000
END:DAYLIGHT
BEGIN:STANDARD
TZOFFSETFROM:-0400
TZOFFSETTO:-0500
TZNAME:EST
DTSTART:20261101T060000
END:STANDARD
BEGIN:DAYLIGHT
TZOFFSETFROM:-0500
TZOFFSETTO:-0400
TZNAME:EDT
DTSTART:20270314T070000
END:DAYLIGHT
BEGIN:STANDARD
TZOFFSETFROM:-0400
TZOFFSETTO:-0500
TZNAME:EST
DTSTART:20271107T060000
END:STANDARD
END:VTIMEZONE
BEGIN:VEVENT
DTSTART;TZID=America/New_York:20260801T110000
DTEND;TZID=America/New_York:20260801T190000
DTSTAMP:20260423T075315
CREATED:20260412T184622Z
LAST-MODIFIED:20260412T184622Z
UID:10000640-1785582000-1785610800@sugarhollowmarina.com
SUMMARY:Pirate Takeover & Annual Scavenger Hunt
DESCRIPTION:Set sail for the Pirate Takeover & Annual Scavenger Hunt at Sugar Hollow Marina. Family fun\, lake adventures\, games\, and prizes all day long.
URL:https://sugarhollowmarina.com/event/pirate-takeover-annual-scavenger-hunt/
LOCATION:Sugar Hollow Resort & Marina\, 610 Marina Lane\, LaFollette\, TN\, 37766\, United States
CATEGORIES:Themed Events
END:VEVENT
BEGIN:VEVENT
DTSTART;TZID=America/New_York:20260808T140000
DTEND;TZID=America/New_York:20260808T190000
DTSTAMP:20260423T075315
CREATED:20260412T190550Z
LAST-MODIFIED:20260412T190550Z
UID:10000644-1786197600-1786215600@sugarhollowmarina.com
SUMMARY:Back To School Bash
DESCRIPTION:Back to School Bash Sugar Hollow Marina brings family fun\, games\, music\, lake vibes.
URL:https://sugarhollowmarina.com/event/back-to-school-bash/
LOCATION:Sugar Hollow Resort & Marina\, 610 Marina Lane\, LaFollette\, TN\, 37766\, United States
CATEGORIES:Themed Events
END:VEVENT
BEGIN:VEVENT
DTSTART;TZID=America/New_York:20260827T190000
DTEND;TZID=America/New_York:20260827T220000
DTSTAMP:20260423T075315
CREATED:20260412T193535Z
LAST-MODIFIED:20260412T193535Z
UID:10000651-1787857200-1787868000@sugarhollowmarina.com
SUMMARY:Sturgeon Full Moon Party
DESCRIPTION:Celebrate under the Sturgeon Full Moon at Sugar Hollow Marina with DJ music\, lake views\, drinks\, and late-night summer vibes.
URL:https://sugarhollowmarina.com/event/sturgeon-full-moon-party/
LOCATION:Sugar Hollow Resort & Marina\, 610 Marina Lane\, LaFollette\, TN\, 37766\, United States
CATEGORIES:Themed Events
ATTACH;FMTTYPE=image/jpeg:https://sugarhollowmarina.com/wp-content/uploads/2026/04/Full-Moon-Party.jpg
END:VEVENT
END:VCALENDAR