BEGIN:VCALENDAR
VERSION:2.0
PRODID:-//Sugar Hollow - ECPv6.15.20//NONSGML v1.0//EN
CALSCALE:GREGORIAN
METHOD:PUBLISH
X-WR-CALNAME:Sugar Hollow
X-ORIGINAL-URL:https://sugarhollowmarina.com
X-WR-CALDESC:Events for Sugar Hollow
REFRESH-INTERVAL;VALUE=DURATION:PT1H
X-Robots-Tag:noindex
X-PUBLISHED-TTL:PT1H
BEGIN:VTIMEZONE
TZID:America/New_York
BEGIN:DAYLIGHT
TZOFFSETFROM:-0500
TZOFFSETTO:-0400
TZNAME:EDT
DTSTART:20260308T070000
END:DAYLIGHT
BEGIN:STANDARD
TZOFFSETFROM:-0400
TZOFFSETTO:-0500
TZNAME:EST
DTSTART:20261101T060000
END:STANDARD
BEGIN:DAYLIGHT
TZOFFSETFROM:-0500
TZOFFSETTO:-0400
TZNAME:EDT
DTSTART:20270314T070000
END:DAYLIGHT
BEGIN:STANDARD
TZOFFSETFROM:-0400
TZOFFSETTO:-0500
TZNAME:EST
DTSTART:20271107T060000
END:STANDARD
BEGIN:DAYLIGHT
TZOFFSETFROM:-0500
TZOFFSETTO:-0400
TZNAME:EDT
DTSTART:20280312T070000
END:DAYLIGHT
BEGIN:STANDARD
TZOFFSETFROM:-0400
TZOFFSETTO:-0500
TZNAME:EST
DTSTART:20281105T060000
END:STANDARD
END:VTIMEZONE
BEGIN:VEVENT
DTSTART;TZID=America/New_York:20270708T180000
DTEND;TZID=America/New_York:20270708T210000
DTSTAMP:20260419T105645
CREATED:20260412T194603Z
LAST-MODIFIED:20260412T194603Z
UID:10000718-1815069600-1815080400@sugarhollowmarina.com
SUMMARY:Taco Thursday
DESCRIPTION:Taco Thursday at Sugar Hollow Marina brings great food\, lakeside views\, drinks\, and relaxed summer vibes by the water.
URL:https://sugarhollowmarina.com/event/taco-thursday/2027-07-08/
LOCATION:Sugar Hollow Resort & Marina\, 610 Marina Lane\, LaFollette\, TN\, 37766\, United States
CATEGORIES:Weekly Events
END:VEVENT
BEGIN:VEVENT
DTSTART;TZID=America/New_York:20270715T180000
DTEND;TZID=America/New_York:20270715T210000
DTSTAMP:20260419T105645
CREATED:20260412T194603Z
LAST-MODIFIED:20260412T194603Z
UID:10000719-1815674400-1815685200@sugarhollowmarina.com
SUMMARY:Taco Thursday
DESCRIPTION:Taco Thursday at Sugar Hollow Marina brings great food\, lakeside views\, drinks\, and relaxed summer vibes by the water.
URL:https://sugarhollowmarina.com/event/taco-thursday/2027-07-15/
LOCATION:Sugar Hollow Resort & Marina\, 610 Marina Lane\, LaFollette\, TN\, 37766\, United States
CATEGORIES:Weekly Events
END:VEVENT
BEGIN:VEVENT
DTSTART;TZID=America/New_York:20270722T180000
DTEND;TZID=America/New_York:20270722T210000
DTSTAMP:20260419T105645
CREATED:20260412T194603Z
LAST-MODIFIED:20260412T194603Z
UID:10000720-1816279200-1816290000@sugarhollowmarina.com
SUMMARY:Taco Thursday
DESCRIPTION:Taco Thursday at Sugar Hollow Marina brings great food\, lakeside views\, drinks\, and relaxed summer vibes by the water.
URL:https://sugarhollowmarina.com/event/taco-thursday/2027-07-22/
LOCATION:Sugar Hollow Resort & Marina\, 610 Marina Lane\, LaFollette\, TN\, 37766\, United States
CATEGORIES:Weekly Events
END:VEVENT
BEGIN:VEVENT
DTSTART;TZID=America/New_York:20270729T180000
DTEND;TZID=America/New_York:20270729T210000
DTSTAMP:20260419T105645
CREATED:20260412T194603Z
LAST-MODIFIED:20260412T194603Z
UID:10000721-1816884000-1816894800@sugarhollowmarina.com
SUMMARY:Taco Thursday
DESCRIPTION:Taco Thursday at Sugar Hollow Marina brings great food\, lakeside views\, drinks\, and relaxed summer vibes by the water.
URL:https://sugarhollowmarina.com/event/taco-thursday/2027-07-29/
LOCATION:Sugar Hollow Resort & Marina\, 610 Marina Lane\, LaFollette\, TN\, 37766\, United States
CATEGORIES:Weekly Events
END:VEVENT
BEGIN:VEVENT
DTSTART;TZID=America/New_York:20270805T180000
DTEND;TZID=America/New_York:20270805T210000
DTSTAMP:20260419T105645
CREATED:20260412T194603Z
LAST-MODIFIED:20260412T194603Z
UID:10000722-1817488800-1817499600@sugarhollowmarina.com
SUMMARY:Taco Thursday
DESCRIPTION:Taco Thursday at Sugar Hollow Marina brings great food\, lakeside views\, drinks\, and relaxed summer vibes by the water.
URL:https://sugarhollowmarina.com/event/taco-thursday/2027-08-05/
LOCATION:Sugar Hollow Resort & Marina\, 610 Marina Lane\, LaFollette\, TN\, 37766\, United States
CATEGORIES:Weekly Events
END:VEVENT
BEGIN:VEVENT
DTSTART;TZID=America/New_York:20270812T180000
DTEND;TZID=America/New_York:20270812T210000
DTSTAMP:20260419T105645
CREATED:20260412T194603Z
LAST-MODIFIED:20260412T194603Z
UID:10000723-1818093600-1818104400@sugarhollowmarina.com
SUMMARY:Taco Thursday
DESCRIPTION:Taco Thursday at Sugar Hollow Marina brings great food\, lakeside views\, drinks\, and relaxed summer vibes by the water.
URL:https://sugarhollowmarina.com/event/taco-thursday/2027-08-12/
LOCATION:Sugar Hollow Resort & Marina\, 610 Marina Lane\, LaFollette\, TN\, 37766\, United States
CATEGORIES:Weekly Events
END:VEVENT
BEGIN:VEVENT
DTSTART;TZID=America/New_York:20270819T180000
DTEND;TZID=America/New_York:20270819T210000
DTSTAMP:20260419T105645
CREATED:20260412T194603Z
LAST-MODIFIED:20260412T194603Z
UID:10000724-1818698400-1818709200@sugarhollowmarina.com
SUMMARY:Taco Thursday
DESCRIPTION:Taco Thursday at Sugar Hollow Marina brings great food\, lakeside views\, drinks\, and relaxed summer vibes by the water.
URL:https://sugarhollowmarina.com/event/taco-thursday/2027-08-19/
LOCATION:Sugar Hollow Resort & Marina\, 610 Marina Lane\, LaFollette\, TN\, 37766\, United States
CATEGORIES:Weekly Events
END:VEVENT
BEGIN:VEVENT
DTSTART;TZID=America/New_York:20270826T180000
DTEND;TZID=America/New_York:20270826T210000
DTSTAMP:20260419T105645
CREATED:20260412T194603Z
LAST-MODIFIED:20260412T194603Z
UID:10000725-1819303200-1819314000@sugarhollowmarina.com
SUMMARY:Taco Thursday
DESCRIPTION:Taco Thursday at Sugar Hollow Marina brings great food\, lakeside views\, drinks\, and relaxed summer vibes by the water.
URL:https://sugarhollowmarina.com/event/taco-thursday/2027-08-26/
LOCATION:Sugar Hollow Resort & Marina\, 610 Marina Lane\, LaFollette\, TN\, 37766\, United States
CATEGORIES:Weekly Events
END:VEVENT
BEGIN:VEVENT
DTSTART;TZID=America/New_York:20270902T180000
DTEND;TZID=America/New_York:20270902T210000
DTSTAMP:20260419T105645
CREATED:20260412T194603Z
LAST-MODIFIED:20260412T194603Z
UID:10000726-1819908000-1819918800@sugarhollowmarina.com
SUMMARY:Taco Thursday
DESCRIPTION:Taco Thursday at Sugar Hollow Marina brings great food\, lakeside views\, drinks\, and relaxed summer vibes by the water.
URL:https://sugarhollowmarina.com/event/taco-thursday/2027-09-02/
LOCATION:Sugar Hollow Resort & Marina\, 610 Marina Lane\, LaFollette\, TN\, 37766\, United States
CATEGORIES:Weekly Events
END:VEVENT
END:VCALENDAR