BEGIN:VCALENDAR
VERSION:2.0
PRODID:-//Sugar Hollow - ECPv6.15.20//NONSGML v1.0//EN
CALSCALE:GREGORIAN
METHOD:PUBLISH
X-WR-CALNAME:Sugar Hollow
X-ORIGINAL-URL:https://sugarhollowmarina.com
X-WR-CALDESC:Events for Sugar Hollow
REFRESH-INTERVAL;VALUE=DURATION:PT1H
X-Robots-Tag:noindex
X-PUBLISHED-TTL:PT1H
BEGIN:VTIMEZONE
TZID:America/New_York
BEGIN:DAYLIGHT
TZOFFSETFROM:-0500
TZOFFSETTO:-0400
TZNAME:EDT
DTSTART:20250309T070000
END:DAYLIGHT
BEGIN:STANDARD
TZOFFSETFROM:-0400
TZOFFSETTO:-0500
TZNAME:EST
DTSTART:20251102T060000
END:STANDARD
BEGIN:DAYLIGHT
TZOFFSETFROM:-0500
TZOFFSETTO:-0400
TZNAME:EDT
DTSTART:20260308T070000
END:DAYLIGHT
BEGIN:STANDARD
TZOFFSETFROM:-0400
TZOFFSETTO:-0500
TZNAME:EST
DTSTART:20261101T060000
END:STANDARD
BEGIN:DAYLIGHT
TZOFFSETFROM:-0500
TZOFFSETTO:-0400
TZNAME:EDT
DTSTART:20270314T070000
END:DAYLIGHT
BEGIN:STANDARD
TZOFFSETFROM:-0400
TZOFFSETTO:-0500
TZNAME:EST
DTSTART:20271107T060000
END:STANDARD
END:VTIMEZONE
BEGIN:VEVENT
DTSTART;TZID=America/New_York:20260813T180000
DTEND;TZID=America/New_York:20260813T210000
DTSTAMP:20260419T080955
CREATED:20260412T194603Z
LAST-MODIFIED:20260412T194603Z
UID:10000671-1786644000-1786654800@sugarhollowmarina.com
SUMMARY:Taco Thursday
DESCRIPTION:Taco Thursday at Sugar Hollow Marina brings great food\, lakeside views\, drinks\, and relaxed summer vibes by the water.
URL:https://sugarhollowmarina.com/event/taco-thursday/2026-08-13/
LOCATION:Sugar Hollow Resort & Marina\, 610 Marina Lane\, LaFollette\, TN\, 37766\, United States
CATEGORIES:Weekly Events
END:VEVENT
BEGIN:VEVENT
DTSTART;TZID=America/New_York:20260813T190000
DTEND;TZID=America/New_York:20260813T220000
DTSTAMP:20260419T080955
CREATED:20260412T191105Z
LAST-MODIFIED:20260412T191105Z
UID:10000646-1786647600-1786658400@sugarhollowmarina.com
SUMMARY:Dustin Ford
DESCRIPTION:Spend Taco Thursday with Dustin Ford at Sugar Hollow Marina. Lakeside live music\, cold drinks\, tacos\, and laid-back summer vibes.
URL:https://sugarhollowmarina.com/event/dustin-ford-4/
LOCATION:Sugar Hollow Resort & Marina\, 610 Marina Lane\, LaFollette\, TN\, 37766\, United States
CATEGORIES:Live Entertainment
ATTACH;FMTTYPE=image/jpeg:https://sugarhollowmarina.com/wp-content/uploads/2026/04/Dustin-Ford.jpg
END:VEVENT
BEGIN:VEVENT
DTSTART;TZID=America/New_York:20260814T190000
DTEND;TZID=America/New_York:20260814T230000
DTSTAMP:20260419T080955
CREATED:20260412T191211Z
LAST-MODIFIED:20260412T191211Z
UID:10000647-1786734000-1786748400@sugarhollowmarina.com
SUMMARY:Southern Drive
DESCRIPTION:Kick off the night with Southern Drive at Sugar Hollow Marina. Lakeside live music\, great food\, drinks\, and a high-energy summer vibe on the water.
URL:https://sugarhollowmarina.com/event/southern-drive-3/
LOCATION:Sugar Hollow Resort & Marina\, 610 Marina Lane\, LaFollette\, TN\, 37766\, United States
CATEGORIES:Live Entertainment
ATTACH;FMTTYPE=image/jpeg:https://sugarhollowmarina.com/wp-content/uploads/2026/04/Southern-Drive.jpg
END:VEVENT
BEGIN:VEVENT
DTSTART;TZID=America/New_York:20260815T190000
DTEND;TZID=America/New_York:20260815T230000
DTSTAMP:20260419T080955
CREATED:20260412T191324Z
LAST-MODIFIED:20260412T191324Z
UID:10000648-1786820400-1786834800@sugarhollowmarina.com
SUMMARY:Kincaid Band
DESCRIPTION:Enjoy a high-energy set from Kincaid Band at Sugar Hollow Marina. Lakeside music\, food\, drinks\, and summer fun on the water.
URL:https://sugarhollowmarina.com/event/kincaid-band-3/
LOCATION:Sugar Hollow Resort & Marina\, 610 Marina Lane\, LaFollette\, TN\, 37766\, United States
CATEGORIES:Live Entertainment
ATTACH;FMTTYPE=image/jpeg:https://sugarhollowmarina.com/wp-content/uploads/2026/04/Kincaid-Band.jpg
END:VEVENT
BEGIN:VEVENT
DTSTART;TZID=America/New_York:20260820T180000
DTEND;TZID=America/New_York:20260820T210000
DTSTAMP:20260419T080955
CREATED:20260412T194603Z
LAST-MODIFIED:20260412T194603Z
UID:10000672-1787248800-1787259600@sugarhollowmarina.com
SUMMARY:Taco Thursday
DESCRIPTION:Taco Thursday at Sugar Hollow Marina brings great food\, lakeside views\, drinks\, and relaxed summer vibes by the water.
URL:https://sugarhollowmarina.com/event/taco-thursday/2026-08-20/
LOCATION:Sugar Hollow Resort & Marina\, 610 Marina Lane\, LaFollette\, TN\, 37766\, United States
CATEGORIES:Weekly Events
END:VEVENT
BEGIN:VEVENT
DTSTART;TZID=America/New_York:20260820T180000
DTEND;TZID=America/New_York:20260820T220000
DTSTAMP:20260419T080955
CREATED:20260412T191444Z
LAST-MODIFIED:20260412T191444Z
UID:10000649-1787248800-1787263200@sugarhollowmarina.com
SUMMARY:Jeremy Johnson
DESCRIPTION:Join us for live music with Jeremy Johnson at Sugar Hollow Marina. Lakeside entertainment\, Taco Thursday\, drinks\, and relaxing summer vibes on the water.
URL:https://sugarhollowmarina.com/event/jeremy-johnson-2/
LOCATION:Sugar Hollow Resort & Marina\, 610 Marina Lane\, LaFollette\, TN\, 37766\, United States
CATEGORIES:Live Entertainment
ATTACH;FMTTYPE=image/jpeg:https://sugarhollowmarina.com/wp-content/uploads/2026/04/Jeremy-Johnson.jpg
END:VEVENT
BEGIN:VEVENT
DTSTART;TZID=America/New_York:20260822T190000
DTEND;TZID=America/New_York:20260822T230000
DTSTAMP:20260419T080955
CREATED:20260412T191612Z
LAST-MODIFIED:20260412T191612Z
UID:10000650-1787425200-1787439600@sugarhollowmarina.com
SUMMARY:HIGHWAY 33
DESCRIPTION:Southern rock energy from Highway 33 at Sugar Hollow Marina. Live music on the lake with cold drinks\, food\, and summer vibes.
URL:https://sugarhollowmarina.com/event/highway-33-2/
LOCATION:Sugar Hollow Resort & Marina\, 610 Marina Lane\, LaFollette\, TN\, 37766\, United States
CATEGORIES:Live Entertainment
ATTACH;FMTTYPE=image/jpeg:https://sugarhollowmarina.com/wp-content/uploads/2026/04/HWY33.jpg
END:VEVENT
BEGIN:VEVENT
DTSTART;TZID=America/New_York:20260827T180000
DTEND;TZID=America/New_York:20260827T210000
DTSTAMP:20260419T080955
CREATED:20260412T194603Z
LAST-MODIFIED:20260412T194603Z
UID:10000673-1787853600-1787864400@sugarhollowmarina.com
SUMMARY:Taco Thursday
DESCRIPTION:Taco Thursday at Sugar Hollow Marina brings great food\, lakeside views\, drinks\, and relaxed summer vibes by the water.
URL:https://sugarhollowmarina.com/event/taco-thursday/2026-08-27/
LOCATION:Sugar Hollow Resort & Marina\, 610 Marina Lane\, LaFollette\, TN\, 37766\, United States
CATEGORIES:Weekly Events
END:VEVENT
BEGIN:VEVENT
DTSTART;TZID=America/New_York:20260827T190000
DTEND;TZID=America/New_York:20260827T220000
DTSTAMP:20260419T080955
CREATED:20260412T193535Z
LAST-MODIFIED:20260412T193535Z
UID:10000651-1787857200-1787868000@sugarhollowmarina.com
SUMMARY:Sturgeon Full Moon Party
DESCRIPTION:Celebrate under the Sturgeon Full Moon at Sugar Hollow Marina with DJ music\, lake views\, drinks\, and late-night summer vibes.
URL:https://sugarhollowmarina.com/event/sturgeon-full-moon-party/
LOCATION:Sugar Hollow Resort & Marina\, 610 Marina Lane\, LaFollette\, TN\, 37766\, United States
CATEGORIES:Themed Events
ATTACH;FMTTYPE=image/jpeg:https://sugarhollowmarina.com/wp-content/uploads/2026/04/Full-Moon-Party.jpg
END:VEVENT
BEGIN:VEVENT
DTSTART;TZID=America/New_York:20260827T190000
DTEND;TZID=America/New_York:20260827T220000
DTSTAMP:20260419T080955
CREATED:20260412T193647Z
LAST-MODIFIED:20260412T193647Z
UID:10000652-1787857200-1787868000@sugarhollowmarina.com
SUMMARY:DJ TT
DESCRIPTION:Dance the night away with DJ TT at Sugar Hollow Marina. High-energy beats\, lakeside views\, drinks\, and nonstop summer party vibes.
URL:https://sugarhollowmarina.com/event/dj-tt-2/
LOCATION:Sugar Hollow Resort & Marina\, 610 Marina Lane\, LaFollette\, TN\, 37766\, United States
CATEGORIES:Live Entertainment
ATTACH;FMTTYPE=image/jpeg:https://sugarhollowmarina.com/wp-content/uploads/2026/04/DJ-TT.jpg
END:VEVENT
BEGIN:VEVENT
DTSTART;TZID=America/New_York:20260828T190000
DTEND;TZID=America/New_York:20260828T230000
DTSTAMP:20260419T080955
CREATED:20260412T193815Z
LAST-MODIFIED:20260412T193815Z
UID:10000653-1787943600-1787958000@sugarhollowmarina.com
SUMMARY:Van Waylon
DESCRIPTION:Enjoy live music with Van Waylon at Sugar Hollow Marina. Lakeside tunes\, food\, drinks\, and laid-back summer vibes on the water.
URL:https://sugarhollowmarina.com/event/van-waylon-3/
LOCATION:Sugar Hollow Resort & Marina\, 610 Marina Lane\, LaFollette\, TN\, 37766\, United States
CATEGORIES:Live Entertainment
ATTACH;FMTTYPE=image/jpeg:https://sugarhollowmarina.com/wp-content/uploads/2026/04/Van-Waylon.jpg
END:VEVENT
BEGIN:VEVENT
DTSTART;TZID=America/New_York:20260829T190000
DTEND;TZID=America/New_York:20260829T230000
DTSTAMP:20260419T080955
CREATED:20260412T193921Z
LAST-MODIFIED:20260412T193921Z
UID:10000654-1788030000-1788044400@sugarhollowmarina.com
SUMMARY:Mikki Norwood Band
DESCRIPTION:Catch live music from Mikki Norwood Band at Sugar Hollow Marina. Lakeside vibes\, great food\, drinks\, and summer entertainment on the water.
URL:https://sugarhollowmarina.com/event/mikki-norwood-band-2/
LOCATION:Sugar Hollow Resort & Marina\, 610 Marina Lane\, LaFollette\, TN\, 37766\, United States
CATEGORIES:Live Entertainment
ATTACH;FMTTYPE=image/jpeg:https://sugarhollowmarina.com/wp-content/uploads/2026/04/Mikki-Norwood-Band.jpg
END:VEVENT
BEGIN:VEVENT
DTSTART;TZID=America/New_York:20260903T180000
DTEND;TZID=America/New_York:20260903T210000
DTSTAMP:20260419T080955
CREATED:20260412T194603Z
LAST-MODIFIED:20260412T194603Z
UID:10000674-1788458400-1788469200@sugarhollowmarina.com
SUMMARY:Taco Thursday
DESCRIPTION:Taco Thursday at Sugar Hollow Marina brings great food\, lakeside views\, drinks\, and relaxed summer vibes by the water.
URL:https://sugarhollowmarina.com/event/taco-thursday/2026-09-03/
LOCATION:Sugar Hollow Resort & Marina\, 610 Marina Lane\, LaFollette\, TN\, 37766\, United States
CATEGORIES:Weekly Events
END:VEVENT
BEGIN:VEVENT
DTSTART;TZID=America/New_York:20260903T180000
DTEND;TZID=America/New_York:20260903T220000
DTSTAMP:20260419T080955
CREATED:20260412T194059Z
LAST-MODIFIED:20260412T194059Z
UID:10000655-1788458400-1788472800@sugarhollowmarina.com
SUMMARY:Hayden Bright
DESCRIPTION:Live music on the lake with Hayden Bright at Sugar Hollow Marina. Enjoy sunset views\, cold drinks\, food\, and great summer vibes.
URL:https://sugarhollowmarina.com/event/hayden-bright-2/
LOCATION:Sugar Hollow Resort & Marina\, 610 Marina Lane\, LaFollette\, TN\, 37766\, United States
CATEGORIES:Live Entertainment
ATTACH;FMTTYPE=image/jpeg:https://sugarhollowmarina.com/wp-content/uploads/2026/04/Aaron-Walker.jpg
END:VEVENT
BEGIN:VEVENT
DTSTART;TZID=America/New_York:20260904T190000
DTEND;TZID=America/New_York:20260904T230000
DTSTAMP:20260419T080955
CREATED:20260412T194204Z
LAST-MODIFIED:20260412T194204Z
UID:10000656-1788548400-1788562800@sugarhollowmarina.com
SUMMARY:Kincaid Band
DESCRIPTION:Enjoy live music from Kincaid Band at Sugar Hollow Marina. Lakeside energy\, food\, drinks\, and summer fun on the water.
URL:https://sugarhollowmarina.com/event/kincaid-band-4/
LOCATION:Sugar Hollow Resort & Marina\, 610 Marina Lane\, LaFollette\, TN\, 37766\, United States
CATEGORIES:Live Entertainment
ATTACH;FMTTYPE=image/jpeg:https://sugarhollowmarina.com/wp-content/uploads/2026/04/Kincaid-Band.jpg
END:VEVENT
BEGIN:VEVENT
DTSTART;TZID=America/New_York:20260905T190000
DTEND;TZID=America/New_York:20260905T230000
DTSTAMP:20260419T080955
CREATED:20260412T194305Z
LAST-MODIFIED:20260412T194305Z
UID:10000657-1788634800-1788649200@sugarhollowmarina.com
SUMMARY:Short Term Memory
DESCRIPTION:High-energy lakeside set from Short Term Memory at Sugar Hollow Marina. Cold drinks\, food\, and nonstop summer vibes on the water.
URL:https://sugarhollowmarina.com/event/short-term-memory-5/
LOCATION:Sugar Hollow Resort & Marina\, 610 Marina Lane\, LaFollette\, TN\, 37766\, United States
CATEGORIES:Live Entertainment
ATTACH;FMTTYPE=image/jpeg:https://sugarhollowmarina.com/wp-content/uploads/2026/04/Short-Term-Memory.jpg
END:VEVENT
BEGIN:VEVENT
DTSTART;TZID=America/New_York:20260906T170000
DTEND;TZID=America/New_York:20260906T200000
DTSTAMP:20260419T080955
CREATED:20260412T194415Z
LAST-MODIFIED:20260412T194415Z
UID:10000658-1788714000-1788724800@sugarhollowmarina.com
SUMMARY:Will Shepherd
DESCRIPTION:Don’t miss the final live music night with Will Shepherd at Sugar Hollow Marina. Lakeside vibes\, food\, drinks\, and a season-ending celebration.
URL:https://sugarhollowmarina.com/event/will-shepherd-3/
LOCATION:Sugar Hollow Resort & Marina\, 610 Marina Lane\, LaFollette\, TN\, 37766\, United States
CATEGORIES:Live Entertainment
ATTACH;FMTTYPE=image/jpeg:https://sugarhollowmarina.com/wp-content/uploads/2026/04/Will-Shepherd.jpg
END:VEVENT
BEGIN:VEVENT
DTSTART;TZID=America/New_York:20260910T180000
DTEND;TZID=America/New_York:20260910T210000
DTSTAMP:20260419T080955
CREATED:20260412T194603Z
LAST-MODIFIED:20260412T194603Z
UID:10000675-1789063200-1789074000@sugarhollowmarina.com
SUMMARY:Taco Thursday
DESCRIPTION:Taco Thursday at Sugar Hollow Marina brings great food\, lakeside views\, drinks\, and relaxed summer vibes by the water.
URL:https://sugarhollowmarina.com/event/taco-thursday/2026-09-10/
LOCATION:Sugar Hollow Resort & Marina\, 610 Marina Lane\, LaFollette\, TN\, 37766\, United States
CATEGORIES:Weekly Events
END:VEVENT
BEGIN:VEVENT
DTSTART;TZID=America/New_York:20260917T180000
DTEND;TZID=America/New_York:20260917T210000
DTSTAMP:20260419T080955
CREATED:20260412T194603Z
LAST-MODIFIED:20260412T194603Z
UID:10000676-1789668000-1789678800@sugarhollowmarina.com
SUMMARY:Taco Thursday
DESCRIPTION:Taco Thursday at Sugar Hollow Marina brings great food\, lakeside views\, drinks\, and relaxed summer vibes by the water.
URL:https://sugarhollowmarina.com/event/taco-thursday/2026-09-17/
LOCATION:Sugar Hollow Resort & Marina\, 610 Marina Lane\, LaFollette\, TN\, 37766\, United States
CATEGORIES:Weekly Events
END:VEVENT
BEGIN:VEVENT
DTSTART;TZID=America/New_York:20260924T180000
DTEND;TZID=America/New_York:20260924T210000
DTSTAMP:20260419T080955
CREATED:20260412T194603Z
LAST-MODIFIED:20260412T194603Z
UID:10000677-1790272800-1790283600@sugarhollowmarina.com
SUMMARY:Taco Thursday
DESCRIPTION:Taco Thursday at Sugar Hollow Marina brings great food\, lakeside views\, drinks\, and relaxed summer vibes by the water.
URL:https://sugarhollowmarina.com/event/taco-thursday/2026-09-24/
LOCATION:Sugar Hollow Resort & Marina\, 610 Marina Lane\, LaFollette\, TN\, 37766\, United States
CATEGORIES:Weekly Events
END:VEVENT
BEGIN:VEVENT
DTSTART;TZID=America/New_York:20261001T180000
DTEND;TZID=America/New_York:20261001T210000
DTSTAMP:20260419T080955
CREATED:20260412T194603Z
LAST-MODIFIED:20260412T194603Z
UID:10000678-1790877600-1790888400@sugarhollowmarina.com
SUMMARY:Taco Thursday
DESCRIPTION:Taco Thursday at Sugar Hollow Marina brings great food\, lakeside views\, drinks\, and relaxed summer vibes by the water.
URL:https://sugarhollowmarina.com/event/taco-thursday/2026-10-01/
LOCATION:Sugar Hollow Resort & Marina\, 610 Marina Lane\, LaFollette\, TN\, 37766\, United States
CATEGORIES:Weekly Events
END:VEVENT
BEGIN:VEVENT
DTSTART;TZID=America/New_York:20261008T180000
DTEND;TZID=America/New_York:20261008T210000
DTSTAMP:20260419T080955
CREATED:20260412T194603Z
LAST-MODIFIED:20260412T194603Z
UID:10000679-1791482400-1791493200@sugarhollowmarina.com
SUMMARY:Taco Thursday
DESCRIPTION:Taco Thursday at Sugar Hollow Marina brings great food\, lakeside views\, drinks\, and relaxed summer vibes by the water.
URL:https://sugarhollowmarina.com/event/taco-thursday/2026-10-08/
LOCATION:Sugar Hollow Resort & Marina\, 610 Marina Lane\, LaFollette\, TN\, 37766\, United States
CATEGORIES:Weekly Events
END:VEVENT
BEGIN:VEVENT
DTSTART;TZID=America/New_York:20261015T180000
DTEND;TZID=America/New_York:20261015T210000
DTSTAMP:20260419T080955
CREATED:20260412T194603Z
LAST-MODIFIED:20260412T194603Z
UID:10000680-1792087200-1792098000@sugarhollowmarina.com
SUMMARY:Taco Thursday
DESCRIPTION:Taco Thursday at Sugar Hollow Marina brings great food\, lakeside views\, drinks\, and relaxed summer vibes by the water.
URL:https://sugarhollowmarina.com/event/taco-thursday/2026-10-15/
LOCATION:Sugar Hollow Resort & Marina\, 610 Marina Lane\, LaFollette\, TN\, 37766\, United States
CATEGORIES:Weekly Events
END:VEVENT
BEGIN:VEVENT
DTSTART;TZID=America/New_York:20261022T180000
DTEND;TZID=America/New_York:20261022T210000
DTSTAMP:20260419T080955
CREATED:20260412T194603Z
LAST-MODIFIED:20260412T194603Z
UID:10000681-1792692000-1792702800@sugarhollowmarina.com
SUMMARY:Taco Thursday
DESCRIPTION:Taco Thursday at Sugar Hollow Marina brings great food\, lakeside views\, drinks\, and relaxed summer vibes by the water.
URL:https://sugarhollowmarina.com/event/taco-thursday/2026-10-22/
LOCATION:Sugar Hollow Resort & Marina\, 610 Marina Lane\, LaFollette\, TN\, 37766\, United States
CATEGORIES:Weekly Events
END:VEVENT
BEGIN:VEVENT
DTSTART;TZID=America/New_York:20261029T180000
DTEND;TZID=America/New_York:20261029T210000
DTSTAMP:20260419T080955
CREATED:20260412T194603Z
LAST-MODIFIED:20260412T194603Z
UID:10000682-1793296800-1793307600@sugarhollowmarina.com
SUMMARY:Taco Thursday
DESCRIPTION:Taco Thursday at Sugar Hollow Marina brings great food\, lakeside views\, drinks\, and relaxed summer vibes by the water.
URL:https://sugarhollowmarina.com/event/taco-thursday/2026-10-29/
LOCATION:Sugar Hollow Resort & Marina\, 610 Marina Lane\, LaFollette\, TN\, 37766\, United States
CATEGORIES:Weekly Events
END:VEVENT
BEGIN:VEVENT
DTSTART;TZID=America/New_York:20261105T180000
DTEND;TZID=America/New_York:20261105T210000
DTSTAMP:20260419T080955
CREATED:20260412T194603Z
LAST-MODIFIED:20260412T194603Z
UID:10000683-1793901600-1793912400@sugarhollowmarina.com
SUMMARY:Taco Thursday
DESCRIPTION:Taco Thursday at Sugar Hollow Marina brings great food\, lakeside views\, drinks\, and relaxed summer vibes by the water.
URL:https://sugarhollowmarina.com/event/taco-thursday/2026-11-05/
LOCATION:Sugar Hollow Resort & Marina\, 610 Marina Lane\, LaFollette\, TN\, 37766\, United States
CATEGORIES:Weekly Events
END:VEVENT
BEGIN:VEVENT
DTSTART;TZID=America/New_York:20261112T180000
DTEND;TZID=America/New_York:20261112T210000
DTSTAMP:20260419T080955
CREATED:20260412T194603Z
LAST-MODIFIED:20260412T194603Z
UID:10000684-1794506400-1794517200@sugarhollowmarina.com
SUMMARY:Taco Thursday
DESCRIPTION:Taco Thursday at Sugar Hollow Marina brings great food\, lakeside views\, drinks\, and relaxed summer vibes by the water.
URL:https://sugarhollowmarina.com/event/taco-thursday/2026-11-12/
LOCATION:Sugar Hollow Resort & Marina\, 610 Marina Lane\, LaFollette\, TN\, 37766\, United States
CATEGORIES:Weekly Events
END:VEVENT
BEGIN:VEVENT
DTSTART;TZID=America/New_York:20261119T180000
DTEND;TZID=America/New_York:20261119T210000
DTSTAMP:20260419T080955
CREATED:20260412T194603Z
LAST-MODIFIED:20260412T194603Z
UID:10000685-1795111200-1795122000@sugarhollowmarina.com
SUMMARY:Taco Thursday
DESCRIPTION:Taco Thursday at Sugar Hollow Marina brings great food\, lakeside views\, drinks\, and relaxed summer vibes by the water.
URL:https://sugarhollowmarina.com/event/taco-thursday/2026-11-19/
LOCATION:Sugar Hollow Resort & Marina\, 610 Marina Lane\, LaFollette\, TN\, 37766\, United States
CATEGORIES:Weekly Events
END:VEVENT
BEGIN:VEVENT
DTSTART;TZID=America/New_York:20261126T180000
DTEND;TZID=America/New_York:20261126T210000
DTSTAMP:20260419T080955
CREATED:20260412T194603Z
LAST-MODIFIED:20260412T194603Z
UID:10000686-1795716000-1795726800@sugarhollowmarina.com
SUMMARY:Taco Thursday
DESCRIPTION:Taco Thursday at Sugar Hollow Marina brings great food\, lakeside views\, drinks\, and relaxed summer vibes by the water.
URL:https://sugarhollowmarina.com/event/taco-thursday/2026-11-26/
LOCATION:Sugar Hollow Resort & Marina\, 610 Marina Lane\, LaFollette\, TN\, 37766\, United States
CATEGORIES:Weekly Events
END:VEVENT
BEGIN:VEVENT
DTSTART;TZID=America/New_York:20261203T180000
DTEND;TZID=America/New_York:20261203T210000
DTSTAMP:20260419T080955
CREATED:20260412T194603Z
LAST-MODIFIED:20260412T194603Z
UID:10000687-1796320800-1796331600@sugarhollowmarina.com
SUMMARY:Taco Thursday
DESCRIPTION:Taco Thursday at Sugar Hollow Marina brings great food\, lakeside views\, drinks\, and relaxed summer vibes by the water.
URL:https://sugarhollowmarina.com/event/taco-thursday/2026-12-03/
LOCATION:Sugar Hollow Resort & Marina\, 610 Marina Lane\, LaFollette\, TN\, 37766\, United States
CATEGORIES:Weekly Events
END:VEVENT
END:VCALENDAR